BEGIN:VCALENDAR
VERSION:2.0
PRODID:-//GKPV - GRÜNE Kommunalpolitische Vereinigung - ECPv6.15.12.2//NONSGML v1.0//EN
CALSCALE:GREGORIAN
METHOD:PUBLISH
X-WR-CALNAME:GKPV - GRÜNE Kommunalpolitische Vereinigung
X-ORIGINAL-URL:https://gruene-kommunalpolitik.de
X-WR-CALDESC:Veranstaltungen für GKPV - GRÜNE Kommunalpolitische Vereinigung
REFRESH-INTERVAL;VALUE=DURATION:PT1H
X-Robots-Tag:noindex
X-PUBLISHED-TTL:PT1H
BEGIN:VTIMEZONE
TZID:Europe/Berlin
BEGIN:DAYLIGHT
TZOFFSETFROM:+0100
TZOFFSETTO:+0200
TZNAME:CEST
DTSTART:20240331T010000
END:DAYLIGHT
BEGIN:STANDARD
TZOFFSETFROM:+0200
TZOFFSETTO:+0100
TZNAME:CET
DTSTART:20241027T010000
END:STANDARD
BEGIN:DAYLIGHT
TZOFFSETFROM:+0100
TZOFFSETTO:+0200
TZNAME:CEST
DTSTART:20250330T010000
END:DAYLIGHT
BEGIN:STANDARD
TZOFFSETFROM:+0200
TZOFFSETTO:+0100
TZNAME:CET
DTSTART:20251026T010000
END:STANDARD
BEGIN:DAYLIGHT
TZOFFSETFROM:+0100
TZOFFSETTO:+0200
TZNAME:CEST
DTSTART:20260329T010000
END:DAYLIGHT
BEGIN:STANDARD
TZOFFSETFROM:+0200
TZOFFSETTO:+0100
TZNAME:CET
DTSTART:20261025T010000
END:STANDARD
END:VTIMEZONE
BEGIN:VEVENT
DTSTART;TZID=Europe/Berlin:20250902T193000
DTEND;TZID=Europe/Berlin:20250902T203000
DTSTAMP:20260419T181850
CREATED:20250808T122239Z
LAST-MODIFIED:20250808T122240Z
UID:2945-1756841400-1756845000@gruene-kommunalpolitik.de
SUMMARY:Kommunalsprechstunde September - online
DESCRIPTION:Sich kennenlernen\, Fragen stellen\, Infos und Anregungen bekommen oder sich vernetzen – all das ist möglich bei unserer monatlichen online-Kommunalsprechstunde. Schaut einfach mal vorbei.  \n\n\n\nZu der zwanglosen Runde erhalten alle grünnahen Kommunalis und Mitglieder der GKPV per E-Mail den Einwahllink für die zoom-Konferenz
URL:https://gruene-kommunalpolitik.de/event/kommunalsprechstunde-september-online/
END:VEVENT
END:VCALENDAR